BEGIN:VCALENDAR
VERSION:2.0
PRODID:icalendar-ruby
CALSCALE:GREGORIAN
METHOD:PUBLISH
BEGIN:VEVENT
DTSTAMP:20260420T101117Z
UID:382-5564845@goldenearsunited.ca
DTSTART:20260426T230000Z
DTEND:20260427T000000Z
CLASS:PUBLIC
CREATED:20260419T205120
DESCRIPTION:An afternoon of music and reflection for the soul. This month's
  featured artist is Melanie Dekker and her Barnstormer Band.  Admission b
 y donation - all are welcome. 
LAST-MODIFIED:20260419T205120
LOCATION:Golden Ears United Church
SUMMARY:Jazz Vespers Concert
URL;VALUE=URI:https://www.goldenearsunited.ca/events/jazz-vespers-concert--
 382/2026-04-26
ATTACH;FILENAME=GEUC Vespers April 2026 Social media.jpg;FMTTYPE=image/jpeg
 :https://dq5pwpg1q8ru0.cloudfront.net/2026/04/20/03/51/20/99d6bb17-09c7-40
 b8-9732-9df4df59c396/GEUC%20Vespers%20April%202026%20Social%20media.jpg
END:VEVENT
END:VCALENDAR
