BEGIN:VCALENDAR
VERSION:2.0
PRODID:icalendar-ruby
CALSCALE:GREGORIAN
METHOD:PUBLISH
BEGIN:VEVENT
DTSTAMP:20260424T140756Z
UID:120-5635773@goldenearsunited.ca
DTSTART:20260401T010000Z
DTEND:20260401T023000Z
CLASS:PUBLIC
CREATED:20260424T061623
DESCRIPTION:Join us for this all ages program for Bible Stories\, discussio
 n\, activities and conversation! For the time being we are meeting in the 
 zoom room\, please call for the link!
LAST-MODIFIED:20260424T061623
LOCATION:Golden Ears United Zoom Room (call for link)
SUMMARY:Together Tuesdays
URL;VALUE=URI:https://www.goldenearsunited.ca/events/together-tuesdays--120
 /2026-03-31
ATTACH;FILENAME=Together Tuesdays website (1500 x 784 px).png;FMTTYPE=image
 /png:https://dq5pwpg1q8ru0.cloudfront.net/2021/10/05/15/45/04/94597707-32e
 2-4a0d-bea0-f93a82bd50c2/Together%20Tuesdays%20website%20(1500%20x%20784%2
 0px).png
END:VEVENT
END:VCALENDAR
